BEGIN:VCALENDAR
VERSION:2.0
PRODID:-//Boating Industry Canada - ECPv6.15.11//NONSGML v1.0//EN
CALSCALE:GREGORIAN
METHOD:PUBLISH
X-WR-CALNAME:Boating Industry Canada
X-ORIGINAL-URL:https://boatingindustry.ca
X-WR-CALDESC:Events for Boating Industry Canada
REFRESH-INTERVAL;VALUE=DURATION:PT1H
X-Robots-Tag:noindex
X-PUBLISHED-TTL:PT1H
BEGIN:VTIMEZONE
TZID:America/Toronto
BEGIN:DAYLIGHT
TZOFFSETFROM:-0500
TZOFFSETTO:-0400
TZNAME:EDT
DTSTART:20230312T070000
END:DAYLIGHT
BEGIN:STANDARD
TZOFFSETFROM:-0400
TZOFFSETTO:-0500
TZNAME:EST
DTSTART:20231105T060000
END:STANDARD
BEGIN:DAYLIGHT
TZOFFSETFROM:-0500
TZOFFSETTO:-0400
TZNAME:EDT
DTSTART:20240310T070000
END:DAYLIGHT
BEGIN:STANDARD
TZOFFSETFROM:-0400
TZOFFSETTO:-0500
TZNAME:EST
DTSTART:20241103T060000
END:STANDARD
BEGIN:DAYLIGHT
TZOFFSETFROM:-0500
TZOFFSETTO:-0400
TZNAME:EDT
DTSTART:20250309T070000
END:DAYLIGHT
BEGIN:STANDARD
TZOFFSETFROM:-0400
TZOFFSETTO:-0500
TZNAME:EST
DTSTART:20251102T060000
END:STANDARD
END:VTIMEZONE
BEGIN:VEVENT
DTSTART;VALUE=DATE:20240216
DTEND;VALUE=DATE:20240219
DTSTAMP:20260419T122649
CREATED:20240117T150505Z
LAST-MODIFIED:20240117T150505Z
UID:27680-1708041600-1708300799@boatingindustry.ca
SUMMARY:Montreal Outdoor\, Hunting\, Fishing Show
DESCRIPTION:
URL:https://boatingindustry.ca/event/montreal-outdoor-hunting-fishing-show/
LOCATION:British Columbia
END:VEVENT
BEGIN:VEVENT
DTSTART;VALUE=DATE:20240223
DTEND;VALUE=DATE:20240226
DTSTAMP:20260419T122649
CREATED:20240117T150710Z
LAST-MODIFIED:20240117T150710Z
UID:27684-1708646400-1708905599@boatingindustry.ca
SUMMARY:London Boat\, Fishing & Outdoor Show
DESCRIPTION:
URL:https://boatingindustry.ca/event/london-boat-fishing-outdoor-show/
LOCATION:British Columbia
END:VEVENT
END:VCALENDAR