BEGIN:VCALENDAR
VERSION:2.0
PRODID:-//Boating Industry Canada - ECPv6.15.11//NONSGML v1.0//EN
CALSCALE:GREGORIAN
METHOD:PUBLISH
X-WR-CALNAME:Boating Industry Canada
X-ORIGINAL-URL:https://boatingindustry.ca
X-WR-CALDESC:Events for Boating Industry Canada
REFRESH-INTERVAL;VALUE=DURATION:PT1H
X-Robots-Tag:noindex
X-PUBLISHED-TTL:PT1H
BEGIN:VTIMEZONE
TZID:America/Toronto
BEGIN:DAYLIGHT
TZOFFSETFROM:-0500
TZOFFSETTO:-0400
TZNAME:EDT
DTSTART:20230312T070000
END:DAYLIGHT
BEGIN:STANDARD
TZOFFSETFROM:-0400
TZOFFSETTO:-0500
TZNAME:EST
DTSTART:20231105T060000
END:STANDARD
BEGIN:DAYLIGHT
TZOFFSETFROM:-0500
TZOFFSETTO:-0400
TZNAME:EDT
DTSTART:20240310T070000
END:DAYLIGHT
BEGIN:STANDARD
TZOFFSETFROM:-0400
TZOFFSETTO:-0500
TZNAME:EST
DTSTART:20241103T060000
END:STANDARD
BEGIN:DAYLIGHT
TZOFFSETFROM:-0500
TZOFFSETTO:-0400
TZNAME:EDT
DTSTART:20250309T070000
END:DAYLIGHT
BEGIN:STANDARD
TZOFFSETFROM:-0400
TZOFFSETTO:-0500
TZNAME:EST
DTSTART:20251102T060000
END:STANDARD
END:VTIMEZONE
BEGIN:VEVENT
DTSTART;VALUE=DATE:20240308
DTEND;VALUE=DATE:20240311
DTSTAMP:20260419T104034
CREATED:20240117T151000Z
LAST-MODIFIED:20240117T151000Z
UID:27690-1709856000-1710115199@boatingindustry.ca
SUMMARY:Victoria Boat + Fishing Show
DESCRIPTION:
URL:https://boatingindustry.ca/event/victoria-boat-fishing-show/
LOCATION:British Columbia
END:VEVENT
BEGIN:VEVENT
DTSTART;VALUE=DATE:20240322
DTEND;VALUE=DATE:20240325
DTSTAMP:20260419T104034
CREATED:20240117T151512Z
LAST-MODIFIED:20240117T151512Z
UID:27704-1711065600-1711324799@boatingindustry.ca
SUMMARY:Moncton Boat & Sportsmen Show
DESCRIPTION:
URL:https://boatingindustry.ca/event/moncton-boat-sportsmen-show/
LOCATION:British Columbia
END:VEVENT
BEGIN:VEVENT
DTSTART;VALUE=DATE:20240322
DTEND;VALUE=DATE:20240325
DTSTAMP:20260419T104034
CREATED:20240117T151547Z
LAST-MODIFIED:20240117T151547Z
UID:27706-1711065600-1711324799@boatingindustry.ca
SUMMARY:Kingston Boat Show
DESCRIPTION:
URL:https://boatingindustry.ca/event/kingston-boat-show/
LOCATION:British Columbia
END:VEVENT
END:VCALENDAR