BEGIN:VCALENDAR
VERSION:2.0
PRODID:-//Boating Industry Canada - ECPv6.15.11//NONSGML v1.0//EN
CALSCALE:GREGORIAN
METHOD:PUBLISH
X-ORIGINAL-URL:https://boatingindustry.ca
X-WR-CALDESC:Events for Boating Industry Canada
REFRESH-INTERVAL;VALUE=DURATION:PT1H
X-Robots-Tag:noindex
X-PUBLISHED-TTL:PT1H
BEGIN:VTIMEZONE
TZID:America/Toronto
BEGIN:DAYLIGHT
TZOFFSETFROM:-0500
TZOFFSETTO:-0400
TZNAME:EDT
DTSTART:20230312T070000
END:DAYLIGHT
BEGIN:STANDARD
TZOFFSETFROM:-0400
TZOFFSETTO:-0500
TZNAME:EST
DTSTART:20231105T060000
END:STANDARD
BEGIN:DAYLIGHT
TZOFFSETFROM:-0500
TZOFFSETTO:-0400
TZNAME:EDT
DTSTART:20240310T070000
END:DAYLIGHT
BEGIN:STANDARD
TZOFFSETFROM:-0400
TZOFFSETTO:-0500
TZNAME:EST
DTSTART:20241103T060000
END:STANDARD
BEGIN:DAYLIGHT
TZOFFSETFROM:-0500
TZOFFSETTO:-0400
TZNAME:EDT
DTSTART:20250309T070000
END:DAYLIGHT
BEGIN:STANDARD
TZOFFSETFROM:-0400
TZOFFSETTO:-0500
TZNAME:EST
DTSTART:20251102T060000
END:STANDARD
END:VTIMEZONE
BEGIN:VEVENT
DTSTART;VALUE=DATE:20240412
DTEND;VALUE=DATE:20240415
DTSTAMP:20260419T084450
CREATED:20240117T152022Z
LAST-MODIFIED:20240117T152022Z
UID:27708-1712880000-1713139199@boatingindustry.ca
SUMMARY:Ottawa Cottage Life and Backyard Show
DESCRIPTION:
URL:https://boatingindustry.ca/event/ottawa-cottage-life-and-backyard-show/
LOCATION:British Columbia
END:VEVENT
BEGIN:VEVENT
DTSTART;TZID=America/Toronto:20240412T080000
DTEND;TZID=America/Toronto:20240414T170000
DTSTAMP:20260419T084450
CREATED:20240117T152054Z
LAST-MODIFIED:20240117T152054Z
UID:27710-1712908800-1713114000@boatingindustry.ca
SUMMARY:Bay Bridge Boat Show
DESCRIPTION:
URL:https://boatingindustry.ca/event/bay-bridge-boat-show/
LOCATION:British Columbia
END:VEVENT
BEGIN:VEVENT
DTSTART;VALUE=DATE:20240419
DTEND;VALUE=DATE:20240422
DTSTAMP:20260419T084450
CREATED:20240117T152126Z
LAST-MODIFIED:20240117T152126Z
UID:27712-1713484800-1713743999@boatingindustry.ca
SUMMARY:Suncoast Boat Show (Sarasota)
DESCRIPTION:
URL:https://boatingindustry.ca/event/suncoast-boat-show-sarasota/
LOCATION:British Columbia
END:VEVENT
BEGIN:VEVENT
DTSTART;VALUE=DATE:20240426
DTEND;VALUE=DATE:20240429
DTSTAMP:20260419T084450
CREATED:20240117T152202Z
LAST-MODIFIED:20240117T152202Z
UID:27714-1714089600-1714348799@boatingindustry.ca
SUMMARY:Annapolis Spring Sailboat Show
DESCRIPTION:
URL:https://boatingindustry.ca/event/annapolis-spring-sailboat-show/
LOCATION:British Columbia
END:VEVENT
BEGIN:VEVENT
DTSTART;VALUE=DATE:20240426
DTEND;VALUE=DATE:20240429
DTSTAMP:20260419T084450
CREATED:20240416T153500Z
LAST-MODIFIED:20240416T153500Z
UID:28603-1714089600-1714348799@boatingindustry.ca
SUMMARY:Orillia Perch Festival
DESCRIPTION:
URL:https://boatingindustry.ca/event/orillia-perch-festival/
LOCATION:Orillia\, ON\, Orillia\, Ontario\, Canada
END:VEVENT
END:VCALENDAR